BEGIN:VCALENDAR
VERSION:2.0
PRODID:-//AAIM - ECPv6.2.2//NONSGML v1.0//EN
CALSCALE:GREGORIAN
METHOD:PUBLISH
X-WR-CALNAME:AAIM
X-ORIGINAL-URL:https://aaimea.org
X-WR-CALDESC:Events for AAIM
REFRESH-INTERVAL;VALUE=DURATION:PT1H
X-Robots-Tag:noindex
X-PUBLISHED-TTL:PT1H
BEGIN:VTIMEZONE
TZID:America/Chicago
BEGIN:DAYLIGHT
TZOFFSETFROM:-0600
TZOFFSETTO:-0500
TZNAME:CDT
DTSTART:20260308T080000
END:DAYLIGHT
BEGIN:STANDARD
TZOFFSETFROM:-0500
TZOFFSETTO:-0600
TZNAME:CST
DTSTART:20261101T070000
END:STANDARD
END:VTIMEZONE
BEGIN:VEVENT
DTSTART;TZID=America/Chicago:20260408T083000
DTEND;TZID=America/Chicago:20260422T163000
DTSTAMP:20260420T101611
CREATED:20251105T195647Z
LAST-MODIFIED:20251216T203615Z
UID:10001348-1775637000-1776875400@aaimea.org
SUMMARY:Supervisor's Toolbox ST. LOUIS - April 2026
DESCRIPTION:As a supervisor\, you are only as good as your people and the work they produce. This series course is designed to provide critical management skills to perform duties and responsibilities required of a management member. Participants will be able to develop a clear understanding of their job responsibilities as a supervisor\, gain insight into their leadership style\, and understand the basic skills needed to be an effective supervisor. For more information or to register\, go to https://aaimea.org/courses/supervisor-essentials/ \n 
URL:https://aaimea.org/cal-date/supervisors-toolbox-st-louis-april-2026/
LOCATION:AAIM St. Louis Office\, 12851 Manchester Rd.\, Suite 150\, St. Louis\, MO\, 63131\, United States
ORGANIZER;CN="Solutions Team":MAILTO:register@aaimea.org
END:VEVENT
BEGIN:VEVENT
DTSTART;TZID=America/Chicago:20260408T083000
DTEND;TZID=America/Chicago:20260513T163000
DTSTAMP:20260420T101611
CREATED:20251105T153302Z
LAST-MODIFIED:20251105T194258Z
UID:10001320-1775637000-1778689800@aaimea.org
SUMMARY:Principles of Leadership ST. LOUIS - April 2026
DESCRIPTION:Making the jump from individual contributor to manager is one of the toughest career challenges an employee can face; it requires a new mindset and new skills. New managers no longer focus only on their personal workload – they need to know how to lead their teams to maximum productivity.
URL:https://aaimea.org/cal-date/principles-of-leadership-st-louis-april-2026/
LOCATION:AAIM St. Louis Office\, 12851 Manchester Rd.\, Suite 150\, St. Louis\, MO\, 63131\, United States
ORGANIZER;CN="Solutions Team":MAILTO:register@aaimea.org
END:VEVENT
BEGIN:VEVENT
DTSTART;TZID=America/Chicago:20260410T083000
DTEND;TZID=America/Chicago:20260501T120000
DTSTAMP:20260420T101611
CREATED:20251105T204507Z
LAST-MODIFIED:20251216T204055Z
UID:10001351-1775809800-1777636800@aaimea.org
SUMMARY:Leadership for Leads ST. LOUIS - April 2026
DESCRIPTION:Making the transition from team member to team lead can be challenging. This course helps you assess and develop your leadership skills\, discover practical and proven ways to effectively communicate\, motivate and train others\, and increase your personal effectiveness and professional reputation. As a work lead\, your team’s success is your success. For more information or to register\, go to https://aaimea.org/courses/leadership-for-leads/ \n 
URL:https://aaimea.org/cal-date/leadership-for-leads-st-louis-april-2026/
LOCATION:AAIM St. Louis Office\, 12851 Manchester Rd.\, Suite 150\, St. Louis\, MO\, 63131\, United States
ORGANIZER;CN="Solutions Team":MAILTO:register@aaimea.org
END:VEVENT
BEGIN:VEVENT
DTSTART;TZID=America/Chicago:20260420T133000
DTEND;TZID=America/Chicago:20260420T153000
DTSTAMP:20260420T101611
CREATED:20260317T203005Z
LAST-MODIFIED:20260317T203133Z
UID:10001571-1776691800-1776699000@aaimea.org
SUMMARY:Labor Law Strategy Session : A Roadmap Through Changing Workplace Law - Online
DESCRIPTION:The legal environment affecting employers has shifted dramatically — federal enforcement priorities\, new legislation\, and accelerating court decisions are rewriting the rules in real time. \nOn April 20\, Burt Garland of Ogletree Deakins delivers a focused two-hour briefing covering NLRB\, EEOC\, and DOL developments\, the One Big Beautiful Bill Act\, key Supreme Court decisions\, and multi-state compliance updates across Missouri\, Illinois\, Florida\, and Indiana. \nYou’ll leave with a clear picture of your organization’s exposure and the confidence to act.
URL:https://aaimea.org/cal-date/labor-law-strategy-session-a-roadmap-through-changing-workplace-law-online/
LOCATION:AAIM St. Louis Office\, 12851 Manchester Rd.\, Suite 150\, St. Louis\, MO\, 63131\, United States
ORGANIZER;CN="Solutions Team":MAILTO:register@aaimea.org
END:VEVENT
BEGIN:VEVENT
DTSTART;TZID=America/Chicago:20260420T133000
DTEND;TZID=America/Chicago:20260420T153000
DTSTAMP:20260420T101611
CREATED:20260317T203018Z
LAST-MODIFIED:20260413T191633Z
UID:10001570-1776691800-1776699000@aaimea.org
SUMMARY:Labor Law Strategy Session: A Roadmap Through Changing Workplace Law- In-Person
DESCRIPTION:As 2026 progresses\, employers are operating in a legal environment shaped by federal agency realignment\, significant court decisions\, and rapid state-level legislative activity. Compliance is no longer static. The decisions organizations make now will directly influence risk exposure\, workforce practices\, and operational stability. \nIn this focused legal update\, Burt Garland of Ogletree Deakins will analyze current developments at the National Labor Relations Board (NLRB)\, Equal Employment Opportunity Commission (EEOC)\, and Department of Labor (DOL)\, along with key federal legislation including the One Big Beautiful Bill Act (OBBBA) and recent Supreme Court rulings such as Muldrow v. City of St. Louis. Multi-state updates across Missouri\, Illinois\, Florida\, and Indiana will also be addressed\, including wage changes\, leave requirements\, noncompete developments\, AI-related regulation\, and data protection laws.
URL:https://aaimea.org/cal-date/labor-law-strategy-session-a-roadmap-through-changing-workplace-law-in-person/
LOCATION:AAIM St. Louis Office\, 12851 Manchester Rd.\, Suite 150\, St. Louis\, MO\, 63131\, United States
ORGANIZER;CN="Solutions Team":MAILTO:register@aaimea.org
END:VEVENT
END:VCALENDAR